BEGIN:VCALENDAR
VERSION:2.0
PRODID:-//ical.marudot.com//iCal Event Maker
CALSCALE:GREGORIAN
BEGIN:VEVENT
DTSTAMP:20260121T150134Z
UID:1769005631346-35217@ical.marudot.com
DTSTART;VALUE=DATE:20260212
DTEND;VALUE=DATE:20260213
SUMMARY:Dutch IT Channel Awards
END:VEVENT
END:VCALENDAR